BEGIN:VCALENDAR
VERSION:2.0
PRODID:-//pretix//pretix.eu//
BEGIN:VEVENT
UID:pretix-mvruschberg-vt-orchester-4491986@mvruschberg.vereinsticket.de
DTSTART;VALUE=DATE:20250420
DTEND;VALUE=DATE:20250421
DESCRIPTION:Tickets: https://mvruschberg.vereinsticket.de/vt-orchester/4491
 986/\nVeranstalter: Musikverein "Germania" Ruschberg e.V.
DTSTAMP:20260420T091020Z
LOCATION:Bürgerhaus Ruschberg\, Auf der Wäschbach\, 55776 Ruschberg
SUMMARY:Osterkonzert
END:VEVENT
END:VCALENDAR
